BEGIN:VCALENDAR
VERSION:2.0
PRODID:-//AudioTheme 3.0.2
BEGIN:VEVENT
UID:urn:uuid:f79aeb39-fdee-446c-b4e4-9e052467f3ad
URL:https://www.papadance.com.pl/shows/zgorzelec-miedzynarodowy-festiwal-piosenki-greckiej-2/
DTSTART;TZID=GMT:20250720T200000
SUMMARY:Międzynarodowy Festiwal Piosenki Greckiej
LOCATION:Zgorzelec\, Amfiteatr Miejski ul. Parkowa 1\, Zgorzelec\, Dolnośląskie\, \, Polska\, 59-900
END:VEVENT
END:VCALENDAR
