BEGIN:VCALENDAR
VERSION:2.0
PRODID:-//AudioTheme 3.0.2
BEGIN:VEVENT
UID:urn:uuid:70607785-6e1b-418b-831b-d98f5d3c2f4c
URL:https://www.papadance.com.pl/shows/zator-koncert-zespolu-papa-dance/
DTSTART;TZID=GMT:20260613T000000
SUMMARY:Zator - Koncert zespołu Papa Dance
LOCATION:Zator - Koncert zespołu Papa Dance\, ul. Marii Konopnickiej ŁKS PALCZOWICE\, Zator\, Woj Małopolskie\, Polska\, 32-640 Zator
END:VEVENT
END:VCALENDAR
