BEGIN:VCALENDAR
VERSION:2.0
PRODID:-//AudioTheme 3.0.2
BEGIN:VEVENT
UID:urn:uuid:335fc4c6-3a33-4038-9e96-bb311485b9fc
URL:https://www.papadance.com.pl/shows/zabki-piknik-rodzinny/
DTSTART;TZID=GMT:20250727T000000
SUMMARY:Piknik rodzinny
LOCATION:Ząbki\, MOSiR Ząbki Ul. Juliusza Słowackiego 21\, Ząbki\, Mazowieckie\, Polska\, \, 05-091
END:VEVENT
END:VCALENDAR
