BEGIN:VCALENDAR
VERSION:2.0
PRODID:-//AudioTheme 3.0.2
BEGIN:VEVENT
UID:urn:uuid:02095441-7d33-44a2-bcba-5325654a28cc
URL:https://www.papadance.com.pl/shows/papa-dance-w-pinokio-3-0/
DTSTART;TZID=GMT:20260418T000000
SUMMARY:Papa Dance w PINOKIO 3.0
LOCATION:Pinokio 3.0\, Ul. Władysława Sikorskiego 29\, Szczecin\, Województwo zachodniopomorskie\, Polska\, 71-072
END:VEVENT
END:VCALENDAR
