BEGIN:VCALENDAR
VERSION:2.0
PRODID:-//AudioTheme 3.0.2
BEGIN:VEVENT
UID:urn:uuid:b2be9db8-93e6-4bfe-9df1-d487bb15f5d5
URL:https://www.papadance.com.pl/shows/namyslow-koncert-zespolu-papa-dance/
DTSTART;TZID=GMT:20260829T000000
SUMMARY:Namysłów - Koncert zespołu Papa Dance
LOCATION:Namysłów - Koncert zespołu Papa Dance\, Namysłów\, Namysłów\, Woj Opolskie\, Polska\, 46-10 Namysłów
END:VEVENT
END:VCALENDAR
