BEGIN:VCALENDAR
VERSION:2.0
PRODID:-//AudioTheme 3.0.2
BEGIN:VEVENT
UID:urn:uuid:d8479efd-0dbd-49cc-b2ae-dab340f33ad9
URL:https://www.papadance.com.pl/shows/mechanik/
DTSTART;TZID=GMT:20250214T000000
SUMMARY:Klub Mechanik
LOCATION:Klub Mechanik\, ul. Narbutta 87\, Warszawa\, Mazowieckie\, Polska\, 02-525
END:VEVENT
END:VCALENDAR
