BEGIN:VCALENDAR
VERSION:2.0
PRODID:-//AudioTheme 3.0.2
BEGIN:VEVENT
UID:urn:uuid:52028dd8-5425-447d-8002-7550723e9070
URL:https://www.papadance.com.pl/shows/hotel-andels-impreza-zamknieta/
DTSTART;TZID=GMT:20250911T220000
SUMMARY:Hotel Andels - Impreza zamknięta
LOCATION:Hotel Andels\, Ul. Ogrodowa 17\, Łódź\, Łódzkie\, Polska\, 91-065
END:VEVENT
END:VCALENDAR
