BEGIN:VCALENDAR
VERSION:2.0
PRODID:-//AudioTheme 3.0.2
BEGIN:VEVENT
UID:urn:uuid:a3baa0ce-dba1-4878-972a-07d560310f66
URL:https://www.papadance.com.pl/shows/festiwal-charytatywny-dla-osrodkow-opiekunczo-wychowawczych/
DTSTART;TZID=GMT:20260411T000000
SUMMARY:Festiwal Charytatywny dla ośrodków opiekuńczo-wychowawczych
LOCATION:Festiwal Charytatywny dla ośrodków opiekuńczo-wychowawczych\, Ul. Bystrzycka 66\, Dziećmorowice\, Woj Dolnoslaskie\, Polska\, 58-308
END:VEVENT
END:VCALENDAR
