BEGIN:VCALENDAR
VERSION:2.0
PRODID:-//AudioTheme 3.0.2
BEGIN:VEVENT
UID:urn:uuid:6b53377e-028f-43c9-afef-84f12a16e00a
URL:https://www.papadance.com.pl/shows/dni-miasta-i-gminy-kanczug/
DTSTART;TZID=GMT:20260627T000000
SUMMARY:Dni Miasta i Gminy Kańczug
LOCATION:Dni Miasta i Gminy Kańczuga\, Stadion Łopuszka mała\, k Kańczugi\, Łopuszka mała\, Woj Podkarpackie\, Polska\, 37-720
END:VEVENT
END:VCALENDAR
