BEGIN:VCALENDAR
VERSION:2.0
PRODID:-//AudioTheme 3.0.2
BEGIN:VEVENT
UID:urn:uuid:996c082c-0ff8-4bc1-aa0d-9d62f3728aab
URL:https://www.papadance.com.pl/shows/boleslawiec-swieto-ceramiki/
DTSTART;TZID=GMT:20250817T180000
SUMMARY:Święto Ceramiki
LOCATION:Bolesławiec\, Ul. Adama Asnyka\, Bolesławiec\, Dolnośląskie\, Polska\, 59-700
END:VEVENT
END:VCALENDAR
